BEGIN:VCALENDAR
VERSION:2.0
PRODID:-//ChamberMaster//Event Calendar 2.0//EN
METHOD:PUBLISH
X-PUBLISHED-TTL:P3D
REFRESH-INTERVAL:P3D
CALSCALE:GREGORIAN
BEGIN:VEVENT
DTSTART:20171208T000000Z
DTEND:20171208T040000Z
X-MICROSOFT-CDO-ALLDAYEVENT:FALSE
SUMMARY:Caledonia Late Night Shopping
DESCRIPTION:Visit businesses in the Caledonia shopping district! Watch for separate notices and emails from individual businesses\, and balloons along the corridor.
X-ALT-DESC;FMTTYPE=text/html:<font color="#ff0000" face="georgia\, serif" size="3"><b>Visit businesses in the Caledonia shopping district! Watch for separate notices and emails from individual businesses\, and balloons along the corridor.&nbsp\;</b></font>
LOCATION:
UID:e.1780.1631
SEQUENCE:3
DTSTAMP:20260425T035723Z
URL:http://business.sausalito.org/events/details/caledonia-late-night-shopping-1631
END:VEVENT

END:VCALENDAR
