BEGIN:VCALENDAR
VERSION:2.0
PRODID:-//ChamberMaster//Event Calendar 2.0//EN
METHOD:PUBLISH
X-PUBLISHED-TTL:P3D
REFRESH-INTERVAL:P3D
CALSCALE:GREGORIAN
BEGIN:VEVENT
DTSTART:20180710T150000Z
DTEND:20180710T163000Z
X-MICROSOFT-CDO-ALLDAYEVENT:FALSE
SUMMARY:Business Exchange @ The Trident
DESCRIPTION:We welcome Jay Putnam to Sausalito for the July Business Exchange.\n\nPreventing Employment-Related Lawsuits and Related Claims \n\nJay has 36 years of deeply-textured experience to draw upon\, and his office is uniquely-qualified to advise employers about the measures they can take to prevent employment-related lawsuits and other workplace claims. They offer high-impact guidance on how a few simple measures can entirely prevent workplace labor law disputes from progressing to lawsuits. These include expertly-drafted employee handbooks\, arbitration policies and related documents that are combined with immediate access to complimentary\, expert legal advice when problems\, questions or concerns arise. Such "preventative medicine"\, as opposed to after-the-fact defense of lawsuits\, is where employers can expect the greatest return on their investment.\n\n\n\nMeeting Topic will include: Recent developments in California employment law\, including the recently-enacted  immigration ( "sanctuary") legislation. His objective is to explain\, in understandable terms\, how new developments relate to existing legal principles\, and what tangible steps employers can take to protect themselves from the ever-increasing legal requirements that form the foundation for future litigation.  Audience participation welcome and questions are invited.  \n\n\n\nIf you would like to have a particular topic discussed at the meeting or a future meeting\, please contact the Chamber at 331-7262 or email Chamber@sausalito.org.
X-ALT-DESC;FMTTYPE=text/html:<p><span style="font-size:16px\;"><span style="font-family:tahoma\;"><span style="color: rgb(0\, 0\, 0)\; font-style: normal\; font-variant-caps: normal\; font-weight: normal\; letter-spacing: normal\; text-align: start\; text-indent: 0px\; text-transform: none\; white-space: normal\; word-spacing: 0px\; -moz-text-size-adjust: auto\; -webkit-text-stroke-width: 0px\; display: inline !important\; float: none\;">We welcome Jay Putnam to Sausalito for the July Business Exchange.</span></span></span></p>\n\n<h2><span style="font-family:tahoma\;"><span style="font-size:16px\;">Preventing Employment-Related Lawsuits and Related Claims </span></span></h2>\n\n<p><span style="font-size:14px\;">Jay has 36 years of deeply-textured experience to draw upon\, and his office is uniquely-qualified to advise employers about the measures they can take to prevent employment-related lawsuits and other workplace claims. They offer high-impact guidance on how a few simple measures can entirely prevent workplace labor law disputes from progressing to lawsuits. These include expertly-drafted employee handbooks\, arbitration policies and related documents that are combined with immediate access to complimentary\, expert legal advice when problems\, questions or concerns arise. Such &ldquo\;preventative medicine&rdquo\;\, as opposed to after-the-fact defense of lawsuits\, is where employers can expect the greatest return on their investment.</span></p>\n\n<p><br />\n<span style="font-size:14px\;"><span style="color: rgb(0\, 0\, 0)\; font-style: normal\; font-variant-caps: normal\; font-weight: normal\; letter-spacing: normal\; text-align: start\; text-indent: 0px\; text-transform: none\; white-space: normal\; word-spacing: 0px\; -moz-text-size-adjust: auto\; -webkit-text-stroke-width: 0px\; display: inline !important\; float: none\;">Meeting Topic will include: Recent developments in California employment law\, including the recently-enacted&nbsp\; immigration (&nbsp\;</span><span style="color: rgb(0\, 0\, 0)\; font-style: normal\; font-variant-caps: normal\; font-weight: normal\; letter-spacing: normal\; text-align: start\; text-indent: 0px\; text-transform: none\; white-space: normal\; word-spacing: 0px\; -moz-text-size-adjust: auto\; -webkit-text-stroke-width: 0px\; background-color: rgb(255\, 255\, 255)\; float: none\; display: inline\;">&quot\;sanctuary&quot\;)&nbsp\;</span><span style="color: rgb(0\, 0\, 0)\; font-style: normal\; font-variant-caps: normal\; font-weight: normal\; letter-spacing: normal\; text-align: start\; text-indent: 0px\; text-transform: none\; white-space: normal\; word-spacing: 0px\; -moz-text-size-adjust: auto\; -webkit-text-stroke-width: 0px\; display: inline !important\; float: none\;">legislation. His objective is to explain\, in understandable terms\, how new developments relate to existing legal principles\, and what tangible steps employers can take to protect themselves from the ever-increasing legal requirements that form the foundation for future litigation.&nbsp\; Audience participation welcome and questions are invited.&nbsp\;&nbsp\;</span><br />\n<br />\nIf you would like to have a particular topic discussed at the meeting or a future meeting\, please contact the Chamber at 331-7262 or email <a href="mailto:Chamber@sausalito.org">Chamber@sausalito.org</a>.</span></p>\n
LOCATION:The Trident 558 Bridgeway Sausalito\, CA 94965 (415) 331-3232 www.thetridentsausalito.com
UID:e.1780.1658
SEQUENCE:3
DTSTAMP:20260424T162040Z
URL:http://business.sausalito.org/events/details/business-exchange-the-trident-1658
END:VEVENT

END:VCALENDAR
