BEGIN:VCALENDAR
VERSION:2.0
PRODID:-//ChamberMaster//Event Calendar 2.0//EN
METHOD:PUBLISH
X-PUBLISHED-TTL:P3D
REFRESH-INTERVAL:P3D
CALSCALE:GREGORIAN
BEGIN:VEVENT
DTSTART:20210304T170000Z
DTEND:20210304T183000Z
X-MICROSOFT-CDO-ALLDAYEVENT:FALSE
SUMMARY:Business Exchange Meeting - Sponsored by Bank of Marin
DESCRIPTION:Guest Speaker: Supervisor Stephanie Moulton-Peters\n\nSponsor:  Bank of Marin - Sausalito\nPlease register to participate in this meeting.\n\n \n\nIf you have questions you would like to have Supervisor Moulton-Peters address send your questions to chamber@sausalito.org by February 23\, 2021.
X-ALT-DESC;FMTTYPE=text/html:<span style="font-size:14px\;"><span style="font-family:arial\;"><strong>Guest Speaker: Supervisor Stephanie Moulton-Peters<br />\nSponsor:&nbsp\; Bank of Marin - Sausalito</strong></span></span>\n<div style="caret-color: rgb(64\, 63\, 66)\; color: rgb(64\, 63\, 66)\; font-family: Arial\, Verdana\, Helvetica\, sans-serif\; font-size: 12px\; font-style: normal\; font-variant-caps: normal\; font-weight: normal\; letter-spacing: normal\; orphans: auto\; text-align: left\; text-indent: 0px\; text-transform: none\; white-space: normal\; widows: auto\; word-spacing: 0px\; -webkit-text-size-adjust: auto\; -webkit-text-stroke-width: 0px\; text-decoration: none\;"><span style="font-size:14px\;"><span style="font-family:arial\;"><span style="color: rgb(35\, 35\, 51)\;">Please register to participate in this meeting.</span></span></span></div>\n\n<div style="caret-color: rgb(64\, 63\, 66)\; color: rgb(64\, 63\, 66)\; font-family: Arial\, Verdana\, Helvetica\, sans-serif\; font-size: 12px\; font-style: normal\; font-variant-caps: normal\; font-weight: normal\; letter-spacing: normal\; orphans: auto\; text-align: left\; text-indent: 0px\; text-transform: none\; white-space: normal\; widows: auto\; word-spacing: 0px\; -webkit-text-size-adjust: auto\; -webkit-text-stroke-width: 0px\; text-decoration: none\;">&nbsp\;</div>\n\n<div style="caret-color: rgb(64\, 63\, 66)\; color: rgb(64\, 63\, 66)\; font-family: Arial\, Verdana\, Helvetica\, sans-serif\; font-size: 12px\; font-style: normal\; font-variant-caps: normal\; font-weight: normal\; letter-spacing: normal\; orphans: auto\; text-align: left\; text-indent: 0px\; text-transform: none\; white-space: normal\; widows: auto\; word-spacing: 0px\; -webkit-text-size-adjust: auto\; -webkit-text-stroke-width: 0px\; text-decoration: none\;"><span style="font-size:14px\;"><span style="font-family:arial\;"><span style="color: rgb(35\, 35\, 51)\;">If you have questions you would like to have Supervisor Moulton-Peters address send your questions to </span><a href="mailto:chamber@sausalito.org" rel="noopener noreferrer" style="text-decoration: underline\; font-size: 14px\; color: rgb(53\, 98\, 191)\; font-family: Lato\, sans-serif\; font-weight: normal\; font-style: normal\;" target="_blank"><span style="display: inline !important\; position: static !important\; margin: 0px !important\; padding: 0px !important\; opacity: 1 !important\; float: inherit !important\; font-style: inherit !important\; font-variant-caps: inherit !important\; font-weight: inherit !important\; font-stretch: inherit !important\; line-height: inherit !important\;"><span style="background-color: rgb(255\, 238\, 148) !important\; color: rgb(7\, 7\, 6) !important\; display: inline !important\; position: static !important\; margin: 0px !important\; padding: 0px !important\; opacity: 1 !important\; float: inherit !important\; font-style: inherit !important\; font-variant-caps: inherit !important\; font-weight: inherit !important\; font-stretch: inherit !important\; line-height: inherit !important\;">chamber</span>@sausalito.org </span></a><span style="color: rgb(35\, 35\, 51)\;">by February 23\, 2021.</span></span></span></div>\n
LOCATION:Via Zoom Register: https://bit.ly/3rRA5M7
UID:e.1780.2806
SEQUENCE:3
DTSTAMP:20260422T123349Z
URL:http://business.sausalito.org/events/details/business-exchange-meeting-sponsored-by-bank-of-marin-2806
END:VEVENT

END:VCALENDAR
