BEGIN:VCALENDAR
VERSION:2.0
PRODID:-//ChamberMaster//Event Calendar 2.0//EN
METHOD:PUBLISH
X-PUBLISHED-TTL:P3D
REFRESH-INTERVAL:P3D
CALSCALE:GREGORIAN
BEGIN:VEVENT
DTSTART:20190409T150000Z
DTEND:20190409T163000Z
X-MICROSOFT-CDO-ALLDAYEVENT:FALSE
SUMMARY:Business Exchange Forum – Sushi Ran
DESCRIPTION:ABOUT THE BUSINESS EXCHANGE - A monthly business meeting where Chamber members\, the Chamber Chair and CEO\, City Staff and representatives from the Chamber Board of Directors and City Council meet to discuss current business issues and to promote upcoming events and programs.\n\n\n\nTopics for this Meeting Include: Sausalito Art Festival Changes\, Caledonia Street Merchants Report and Seasonal Bike Report from Sausalito Bike Return\nThe Business Exchange Committee & Chamber CEO set the Agenda of topics to be presented and discussed\, one week in advance of the meeting. If you would like to have a particular topic discussed at the meeting\, please contact the Chamber at 415-331-7262 or email Chamber@sausalito.org at least one month prior the meeting.
X-ALT-DESC;FMTTYPE=text/html:<span style="font-size:12px\;"><span style="font-family:arial\;">ABOUT THE BUSINESS EXCHANGE - A monthly business meeting where Chamber members\, the Chamber Chair and CEO\, City Staff and representatives from the Chamber Board of Directors and City Council meet to discuss current business issues and to promote upcoming events and programs.</span></span><br />\n<br />\n<span style="font-family: Calibri\, sans-serif\; font-size: 12px\; background-color: rgb(255\, 255\, 255)\;"><strong>Topics for this Meeting Include:</strong> Sausalito Art Festival Changes\, Caledonia Street Merchants Report and Seasonal Bike Report from Sausalito Bike Return</span>\n<p style="color: rgb(0\, 0\, 0)\; font-family: Calibri\, sans-serif\; font-size: 14px\; font-style: normal\; font-variant-caps: normal\; font-weight: normal\; letter-spacing: normal\; orphans: auto\; text-align: start\; text-indent: 0px\; text-transform: none\; white-space: normal\; widows: auto\; word-spacing: 0px\; -webkit-text-size-adjust: auto\; -webkit-text-stroke-width: 0px\;"><span style="font-size:12px\;"><span style="font-family:arial\;">The Business Exchange Committee &amp\; Chamber CEO set&nbsp\;the Agenda of topics to be presented and discussed\, one week in advance of the meeting. If you would like to have a particular topic discussed at the meeting\, please contact the Chamber at 415-331-7262 or email <a href="mailto:Chamber@sausalito.org">Chamber@sausalito.org</a> at least one month&nbsp\;prior the meeting.</span></span><br />\n<br />\n&nbsp\;</p>\n
LOCATION:Sushi Ran 107 Caledonia Street Sausalito
UID:e.1780.1667
SEQUENCE:3
DTSTAMP:20260423T234945Z
URL:http://business.sausalito.org/events/details/business-exchange-forum-sushi-ran-1667
END:VEVENT

END:VCALENDAR
