BEGIN:VCALENDAR
VERSION:2.0
PRODID:-//ChamberMaster//Event Calendar 2.0//EN
METHOD:PUBLISH
X-PUBLISHED-TTL:P3D
REFRESH-INTERVAL:P3D
CALSCALE:GREGORIAN
BEGIN:VEVENT
DTSTART:20180313T151500Z
DTEND:20180313T163000Z
X-MICROSOFT-CDO-ALLDAYEVENT:FALSE
SUMMARY:Business Exchange Forum @ Studio 333
DESCRIPTION:This month topic will be centered around the Upcoming Concierge Tour this Spring. Find out what the plans are and how you can get your business involved.\n\n\n\n8:15    Continental Breakfast & Networking                                            \n\n8:30    Welcome & Introductions   Kim Huff\, Kimber Communications\n\n8:35    Studio 333   Christopher Holbrook\n\n8:40    Concierge Tour Update   Christopher Holbrook & Lisa Scopazzi\n\n8:50    Bike Update   Lisa Scopazzi\n\n8:55    Chamber Chairman   Jeff Scharosch\, Chairman of the Board\n\n9:10    New Member Plaque Presentation & Welcome\n\n9:15    Ambassadors   Bridget Edwards\n\n9:20    Wayfinding Signage update   Kim Huff\n\n9:25    Member's Forum\, Q & A & Community Announcements\n\n9:30    Quote for the Day   Katya Wittenstein\, Katya Glass Jewelry\n\n9:30    Adjourn\n\n\n\n\n\nThank you to Studio 333 for hosting the Forum. Studio 333 is a Fine Art and Event Gallery located on Caledonia Street. The space is a unique venue for exhibitions\, weddings\, bar & bat mitzvahs\, parties\, and private & corporate events of all kinds.\n\n\n\n\n\nThank you to our Chamber Sponsors:\n\nCavallo Point & The Bay Model Visitor Center
X-ALT-DESC;FMTTYPE=text/html:<p>This month topic will be centered around the Upcoming Concierge Tour this Spring. Find out what the plans are and how you can get your business involved.<br />\n<br />\n<span style="font-family:arial\;">8:15&nbsp\;&nbsp\;&nbsp\; Continental Breakfast &amp\; Networking&nbsp\;&nbsp\;&nbsp\;&nbsp\;&nbsp\;&nbsp\;&nbsp\;&nbsp\;&nbsp\;&nbsp\;&nbsp\;&nbsp\;&nbsp\;&nbsp\;&nbsp\;&nbsp\;&nbsp\;&nbsp\;&nbsp\;&nbsp\;&nbsp\;&nbsp\;&nbsp\;&nbsp\;&nbsp\;&nbsp\;&nbsp\;&nbsp\;&nbsp\;&nbsp\;&nbsp\;&nbsp\;&nbsp\;&nbsp\;&nbsp\;&nbsp\;&nbsp\;&nbsp\;&nbsp\;&nbsp\;&nbsp\;&nbsp\;&nbsp\; </span><br />\n<span style="font-family:arial\;">8:30&nbsp\;&nbsp\;&nbsp\; Welcome &amp\; Introductions &ndash\; Kim Huff\, Kimber Communications</span><br />\n<span style="font-family:arial\;">8:35&nbsp\;&nbsp\;&nbsp\; Studio 333 &ndash\; Christopher Holbrook</span><br />\n<span style="font-family:arial\;">8:40&nbsp\;&nbsp\;&nbsp\; Concierge Tour Update &ndash\; Christopher Holbrook &amp\; Lisa Scopazzi</span><br />\n<span style="font-family:arial\;">8:50&nbsp\;&nbsp\;&nbsp\; Bike Update &ndash\; Lisa Scopazzi</span><br />\n<span style="font-family:arial\;">8:55&nbsp\;&nbsp\;&nbsp\; Chamber Chairman &ndash\; Jeff Scharosch\, Chairman of the Board</span><br />\n<span style="font-family:arial\;">9:10&nbsp\;&nbsp\;&nbsp\; New Member Plaque Presentation &amp\; Welcome</span><br />\n<span style="font-family:arial\;">9:15&nbsp\;&nbsp\;&nbsp\; Ambassadors &ndash\; Bridget Edwards</span><br />\n<span style="font-family:arial\;">9:20&nbsp\;&nbsp\;&nbsp\; Wayfinding Signage update &ndash\; Kim Huff</span><br />\n<span style="font-family:arial\;">9:25&nbsp\;&nbsp\;&nbsp\; Member&#39\;s Forum\, Q &amp\; A &amp\; Community Announcements</span><br />\n<span style="font-family:arial\;">9:30&nbsp\;&nbsp\;&nbsp\; Quote for the Day &ndash\; Katya Wittenstein\, Katya Glass Jewelry</span><br />\n<span style="font-family:arial\;">9:30&nbsp\;&nbsp\;&nbsp\; Adjourn</span><br />\n<br />\n<br />\nThank you to <strong>Studio 333</strong> for hosting the Forum. Studio 333 is a Fine Art and Event Gallery located on Caledonia Street. The space is a unique venue for exhibitions\, weddings\, bar &amp\; bat mitzvahs\, parties\, and private &amp\; corporate events of all kinds.<br />\n<br />\n<br />\n<span style="color:#0000CD\;"><em>Thank you to our Chamber Sponsors:</em><br />\n<strong>Cavallo Point &amp\; The Bay Model Visitor Center</strong></span></p>\n
LOCATION:Studio 333 333 Caledonia Street Sausalito\, CA 94965
UID:e.1780.1655
SEQUENCE:3
DTSTAMP:20260424T231331Z
URL:http://business.sausalito.org/events/details/business-exchange-forum-studio-333-1655
END:VEVENT

END:VCALENDAR
