BEGIN:VCALENDAR
VERSION:2.0
PRODID:-//ChamberMaster//Event Calendar 2.0//EN
METHOD:PUBLISH
X-PUBLISHED-TTL:P3D
REFRESH-INTERVAL:P3D
CALSCALE:GREGORIAN
BEGIN:VEVENT
DTSTART:20190514T150000Z
DTEND:20190514T163000Z
X-MICROSOFT-CDO-ALLDAYEVENT:FALSE
SUMMARY:Business Exchange Forum @ Seafood Peddler
DESCRIPTION:Please Join us at Seafood Peddler on Tuesday\, May 14th!\n\n\n\nThis month we welcome Cris Monroe and Conor Johnston who are interested in opening a small cannabis store here in Sausalito as well as representatives of the Marin Theater on Caledonia with an update on construction and a possible new tenant for the downstairs theater space.\n\n\n\n* * *\n\nABOUT THE BUSINESS EXCHANGE - A monthly business meeting where Chamber members\, the Chamber Chair and CEO\, the City Manager and representatives from the Chamber Board of Directors and City Council meet to discuss current business issues and to promote upcoming events and programs.\nThe Business Exchange Committee sets the Agenda of topics to be presented and discussed\, one week in advance of the meeting. Agendas are emailed our to members on the Friday prior to the meeting. If you would like to have a particular topic discussed at the meeting\, please contact the Chamber at 415-331-7262 or email Chamber@sausalito.org at least two weeks prior the meeting.
X-ALT-DESC;FMTTYPE=text/html:Please Join us at Seafood Peddler on Tuesday\, May 14th!<br />\n<br />\nThis month we welcome Cris Monroe and Conor Johnston who are interested in opening a small cannabis store here in Sausalito as well as representatives of the Marin Theater on Caledonia with an update on construction and a possible new tenant for the downstairs theater space.<br />\n<br />\n* * *<br />\nABOUT THE BUSINESS EXCHANGE - A monthly business meeting where Chamber members\, the Chamber Chair and CEO\, the City Manager and representatives from the Chamber Board of Directors and City Council meet to discuss current business issues and to promote upcoming events and programs.\n<p style="color: rgb(0\, 0\, 0)\; font-family: Calibri\, sans-serif\; font-size: 14px\; font-style: normal\; font-variant-caps: normal\; font-weight: normal\; letter-spacing: normal\; orphans: auto\; text-align: start\; text-indent: 0px\; text-transform: none\; white-space: normal\; widows: auto\; word-spacing: 0px\; -webkit-text-size-adjust: auto\; -webkit-text-stroke-width: 0px\;">The Business Exchange Committee sets the Agenda of topics to be presented and discussed\, one week in advance of the meeting. Agendas are emailed our to members on the Friday prior to the meeting. If you would like to have a particular topic discussed at the meeting\, please contact the Chamber at 415-331-7262 or email <a href="mailto:Chamber@sausalito.org">Chamber@sausalito.org</a> at least two weeks prior the meeting.<br />\n&nbsp\;</p>\n
LOCATION:Seafood Peddler 303 Johnson Street Sausalito
UID:e.1780.1668
SEQUENCE:3
DTSTAMP:20260423T221207Z
URL:http://business.sausalito.org/events/details/business-exchange-forum-seafood-peddler-1668
END:VEVENT

END:VCALENDAR
