BEGIN:VCALENDAR
VERSION:2.0
PRODID:-//ChamberMaster//Event Calendar 2.0//EN
METHOD:PUBLISH
X-PUBLISHED-TTL:P3D
REFRESH-INTERVAL:P3D
CALSCALE:GREGORIAN
BEGIN:VEVENT
DTSTART:20190312T150000Z
DTEND:20190312T163000Z
X-MICROSOFT-CDO-ALLDAYEVENT:FALSE
SUMMARY:Business Exchange Forum @ Saylor's
DESCRIPTION:Meeting Topic:\n\nRepresentatives from Southern Marin Fire and Sausalito Police Department will have representatives at the Business Exchange to speak about the recent slides and what businesses can do to prepare themselves.  \n\n\n\nOur Host:\n\nSaylor's is a local favorite with Cabo inspired seafood\, and Mexican cuisine using local organic ingredients. They have a full bar specializing in over 250 tequilas. The Cabo Wabo banquet room is available for small and private parties\, meetings and conferences. During the spring and summer weather the Outdoor Patio is Dog friendly patio\, Catering and private parties are a specialty\, please inquire.\n\n\n\nAbout the Chamber Business Exchange:\n\nBusiness Exchange is a monthly business meeting where Chamber members\, the Chamber Chair and CEO\, the City Manager and representatives from the Chamber Board of Directors and City Council meet to discuss current business issues and to promote upcoming events and programs.\n\nThe Business Exchange Committee sets the Agenda of topics to be presented and discussed\, one week in advance of the meeting. Agendas are emailed our to members on the Friday prior to the meeting. If you would like to have a particular topic discussed at the meeting\, please contact the Chamber at 331-7262 or email Chamber@sausalito.org at least two weeks prior the meeting.
X-ALT-DESC;FMTTYPE=text/html:<p><span style="font-family:arial\;"><span style="color: rgb(0\, 0\, 0)\; font-style: normal\; font-variant-caps: normal\; font-weight: normal\; letter-spacing: normal\; text-align: start\; text-indent: 0px\; text-transform: none\; white-space: normal\; word-spacing: 0px\; -moz-text-size-adjust: auto\; -webkit-text-stroke-width: 0px\; display: inline !important\; float: none\;"><strong>Meeting Topic:</strong><br />\nRepresentatives from Southern Marin Fire and Sausalito Police Department will have representatives at the Business Exchange to speak about the recent slides and what businesses can do to prepare themselves.&nbsp\; </span><br />\n<br />\n<strong>Our Host:</strong></span><br />\nSaylor&#39\;s is a local favorite with Cabo inspired seafood\, and Mexican cuisine using local organic ingredients. They have a full bar specializing in over 250 tequilas. The Cabo Wabo banquet room is available for small and private parties\, meetings and conferences. During the spring and summer weather the Outdoor Patio is Dog friendly patio\, Catering and private parties are a specialty\, please inquire.<br />\n<br />\n<span style="font-family:arial\;"><strong>About the Chamber Business Exchange:</strong><br />\nBusiness Exchange is a monthly business meeting where Chamber members\, the Chamber Chair and CEO\, the City Manager and representatives from the Chamber Board of Directors and City Council meet to discuss current business issues and to promote upcoming events and programs.</span></p>\n\n<p><span style="font-family:arial\;">The Business Exchange Committee sets the Agenda of topics to be presented and discussed\, one week in advance of the meeting. Agendas are emailed our to members on the Friday prior to the meeting. If you would like to have a particular topic discussed at the meeting\, please contact the Chamber at&nbsp\;<a href="tel:331-7262">331-7262</a>&nbsp\;or email&nbsp\;<a href="mailto:Chamber@sausalito.org">Chamber@sausalito.org</a>&nbsp\;at least two weeks prior the meeting.</span></p>\n
LOCATION:Saylor's Restaurant & Bar 2009 Bridgeway Sausalito
UID:e.1780.1919
SEQUENCE:3
DTSTAMP:20260424T011727Z
URL:http://business.sausalito.org/events/details/business-exchange-forum-saylor-s-1919
END:VEVENT

END:VCALENDAR
