BEGIN:VCALENDAR
VERSION:2.0
PRODID:-//ChamberMaster//Event Calendar 2.0//EN
METHOD:PUBLISH
X-PUBLISHED-TTL:P3D
REFRESH-INTERVAL:P3D
CALSCALE:GREGORIAN
BEGIN:VEVENT
DTSTART:20181113T160000Z
DTEND:20181113T173000Z
X-MICROSOFT-CDO-ALLDAYEVENT:FALSE
SUMMARY:Business Exchange Forum @ Sausalito Library
DESCRIPTION:The November Meeting's main topic will be:\n\nSausalito's Marijuana Regulations   Update\n\nThis update is a follow up to last April's presentation by City of Sausalito's Business Manager\, Joshua Montamayor.\n\n\n\nBusiness Exchange is a monthly business meeting where Chamber members\, the Chamber Chair and CEO\, the City Manager and representatives from the Chamber Board of Directors and City Council meet to discuss current business issues and to promote upcoming events and programs.\n\nThe Business Exchange Committee sets the Agenda of topics to be presented and discussed\, one week in advance of the meeting. Agendas are emailed our to members on the Friday prior to the meeting. If you would like to have a particular topic discussed at the meeting\, please contact the Chamber at 331-7262 or email Chamber@sausalito.org at least two weeks prior the meeting.
X-ALT-DESC;FMTTYPE=text/html:<p><span style="font-family:arial\;">The November Meeting&#39\;s main topic will be:<br />\n<span style="color: rgb(31\, 73\, 125)\; font-size: 14.6667px\; font-style: normal\; font-variant-caps: normal\; font-weight: normal\; letter-spacing: normal\; text-align: start\; text-indent: 0px\; text-transform: none\; white-space: normal\; word-spacing: 0px\; -moz-text-size-adjust: auto\; -webkit-text-stroke-width: 0px\; display: inline !important\; float: none\;">Sausalito&rsquo\;s Marijuana Regulations &ndash\; Update</span><br />\nThis update is a follow up to last April&#39\;s presentation by City of Sausalito&#39\;s Business Manager\, Joshua Montamayor.<br />\n<br />\nBusiness Exchange is a monthly business meeting where Chamber members\, the Chamber Chair and CEO\, the City Manager and representatives from the Chamber Board of Directors and City Council meet to discuss current business issues and to promote upcoming events and programs.</span></p>\n\n<p><span style="font-family:arial\;">The Business Exchange Committee sets the Agenda of topics to be presented and discussed\, one week in advance of the meeting. Agendas are emailed our to members on the Friday prior to the meeting. If you would like to have a particular topic discussed at the meeting\, please contact the Chamber at 331-7262 or email&nbsp\;<a href="mailto:Chamber@sausalito.org">Chamber@sausalito.org</a>&nbsp\;at least two weeks prior the meeting.</span></p>\n
LOCATION:Sausalito Public Library 420 Litho Street Sausalito\, CA 94965
UID:e.1780.1845
SEQUENCE:3
DTSTAMP:20260424T085617Z
URL:http://business.sausalito.org/events/details/business-exchange-forum-sausalito-library-1845
END:VEVENT

END:VCALENDAR
