BEGIN:VCALENDAR
VERSION:2.0
PRODID:-//ChamberMaster//Event Calendar 2.0//EN
METHOD:PUBLISH
X-PUBLISHED-TTL:P3D
REFRESH-INTERVAL:P3D
CALSCALE:GREGORIAN
BEGIN:VEVENT
DTSTART:20190108T160000Z
DTEND:20190108T173000Z
X-MICROSOFT-CDO-ALLDAYEVENT:FALSE
SUMMARY:Business Exchange Forum @ Events Ondine
DESCRIPTION:ABOUT THE BUSINESS EXCHANGE - A monthly business meeting where Chamber members\, the Chamber Chair and CEO\, the City Manager and representatives from the Chamber Board of Directors and City Council meet to discuss current business issues and to promote upcoming events and programs.\nThe Business Exchange Committee sets the Agenda of topics to be presented and discussed\, one week in advance of the meeting. Agendas are emailed our to members on the Friday prior to the meeting. If you would like to have a particular topic discussed at the meeting\, please contact the Chamber at 415-331-7262 or email Chamber@sausalito.org at least two weeks prior the meeting.\n\n\n\nThank you to Seafood Peddler for hosting the Forum. A five-time winner of the Pacific Sun Best of Marin award for Seafood Restaurant. Their produce is fresh and the seafood is delivered directly from fisherman to your table. Visit their Fresh Fish Market for fresh oysters\, clams or fresh Maine lobster for a gourmet home cooked seafood dinner. Open for lunch\, dinner or the best happy-hour in Sausalito. Special Valentines reservations are being accepted.
X-ALT-DESC;FMTTYPE=text/html:ABOUT THE BUSINESS EXCHANGE - A monthly business meeting where Chamber members\, the Chamber Chair and CEO\, the City Manager and representatives from the Chamber Board of Directors and City Council meet to discuss current business issues and to promote upcoming events and programs.\n<p style="color: rgb(0\, 0\, 0)\; font-family: Calibri\, sans-serif\; font-size: 14px\; font-style: normal\; font-variant-caps: normal\; font-weight: normal\; letter-spacing: normal\; orphans: auto\; text-align: start\; text-indent: 0px\; text-transform: none\; white-space: normal\; widows: auto\; word-spacing: 0px\; -webkit-text-size-adjust: auto\; -webkit-text-stroke-width: 0px\;">The Business Exchange Committee sets the Agenda of topics to be presented and discussed\, one week in advance of the meeting. Agendas are emailed our to members on the Friday prior to the meeting. If you would like to have a particular topic discussed at the meeting\, please contact the Chamber at 415-331-7262 or email <a href="mailto:Chamber@sausalito.org">Chamber@sausalito.org</a> at least two weeks prior the meeting.<br />\n<br />\nThank you to <b>Seafood Peddler&nbsp\;</b>for hosting the Forum. A five-time winner of the Pacific Sun Best of Marin award for Seafood Restaurant. Their produce is fresh and the seafood is delivered directly from fisherman to your table. Visit their Fresh Fish Market for fresh oysters\, clams or fresh Maine lobster for a gourmet home cooked seafood dinner. Open for lunch\, dinner or the best happy-hour in Sausalito. Special Valentines reservations are being accepted.</p>\n\n<p>&nbsp\;</p>\n
LOCATION:Events Ondine (above the Trident Restaurant) 558 Bridgeway Sausalito\, CA 94965
UID:e.1780.1664
SEQUENCE:3
DTSTAMP:20260424T053717Z
URL:http://business.sausalito.org/events/details/business-exchange-forum-events-ondine-01-08-2019-1664
END:VEVENT

END:VCALENDAR
