BEGIN:VCALENDAR
VERSION:2.0
PRODID:-//ChamberMaster//Event Calendar 2.0//EN
METHOD:PUBLISH
X-PUBLISHED-TTL:P3D
REFRESH-INTERVAL:P3D
CALSCALE:GREGORIAN
BEGIN:VEVENT
DTSTART:20180109T161500Z
DTEND:20180109T173000Z
X-MICROSOFT-CDO-ALLDAYEVENT:FALSE
SUMMARY:Business Exchange Forum @ Barrel House Tavern
DESCRIPTION:Business Exchange is a monthly business meeting where Chamber members\, the Chamber Chair and CEO\, the City Manager and representatives from the Chamber Board of Directors and City Council meet to discuss current business issues and to promote upcoming events and programs.\n\nThe Business Exchange Committee sets the Agenda of topics to be presented and discussed\, one week in advance of the meeting. Agendas are emailed our to members on the Friday prior to the meeting. If you would like to have a particular topic discussed at the meeting\, please contact the Chamber at 331-7262 or email Chamber@sausalito.org at least two weeks prior the meeting.
X-ALT-DESC;FMTTYPE=text/html:<p>Business Exchange is a monthly business meeting where Chamber members\, the Chamber Chair and CEO\, the City Manager and representatives from the Chamber Board of Directors and City Council meet to discuss current business issues and to promote upcoming events and programs.</p>\n\n<p>The Business Exchange Committee sets the Agenda of topics to be presented and discussed\, one week in advance of the meeting. Agendas are emailed our to members on the Friday prior to the meeting. If you would like to have a particular topic discussed at the meeting\, please contact the Chamber at 331-7262 or email <a href="mailto:Chamber@sausalito.org">Chamber@sausalito.org</a> at least two weeks prior the meeting.</p>\n
LOCATION:660 Bridgeway Sausalito
UID:e.1780.1639
SEQUENCE:3
DTSTAMP:20260425T022553Z
URL:http://business.sausalito.org/events/details/business-exchange-forum-barrel-house-tavern-1639
END:VEVENT

END:VCALENDAR
