BEGIN:VCALENDAR
VERSION:2.0
PRODID:-//ChamberMaster//Event Calendar 2.0//EN
METHOD:PUBLISH
X-PUBLISHED-TTL:P3D
REFRESH-INTERVAL:P3D
CALSCALE:GREGORIAN
BEGIN:VEVENT
DTSTART:20181211T161500Z
DTEND:20181211T173000Z
X-MICROSOFT-CDO-ALLDAYEVENT:FALSE
SUMMARY:Business Exchange Forum @ Barrel House Tavern
DESCRIPTION:Business Exchange is a monthly business meeting where Chamber members\, the Chamber Chair and CEO\, the City Manager and representatives from the Chamber Board of Directors and City Council meet to discuss current business issues and to promote upcoming events and programs.\n\n\n\nAbout the Barrel House\n\nA Northern California vibe\, attentive hospitality\, and a locally sourced seasonal menu. We're open everyday for all your social gatherings. Nestled in historic downtown Sausalito overlooking the Bay with breathtaking views of San Francisco's city scape\, Treasure Island and The Bay Bridge. Barrel House Tavern is an inviting waterfront oasis and a lively destination fit for an intimate dinner for two or a celebratory venue for large groups.\n\nLandmarked as a historical building\, this location was once home to the first ferry terminal to and from San Francisco\, before the Golden Gate Bridge was built. Now converted into a modern casual eatery sure to put anyone "at-ease" with contemporary twists on rustic comfort food.\n\nThe Business Exchange Committee sets the Agenda of topics to be presented and discussed\, one week in advance of the meeting. Agendas are emailed our to members on the Friday prior to the meeting. If you would like to have a particular topic discussed at the meeting\, please contact the Chamber at 331-7262 or email Chamber@sausalito.org at least two weeks prior the meeting.
X-ALT-DESC;FMTTYPE=text/html:<p>Business Exchange is a monthly business meeting where Chamber members\, the Chamber Chair and CEO\, the City Manager and representatives from the Chamber Board of Directors and City Council meet to discuss current business issues and to promote upcoming events and programs.<br />\n<br />\n<strong>About the Barrel House</strong><br />\nA&nbsp\;Northern California vibe\, attentive hospitality\, and a locally sourced seasonal menu. We&rsquo\;re open everyday for all your social gatherings. Nestled in historic downtown Sausalito overlooking the Bay with breathtaking views of San Francisco&rsquo\;s city scape\, Treasure Island and The Bay Bridge. Barrel House Tavern is an inviting&nbsp\;waterfront oasis and a lively destination fit for an intimate dinner for two or a celebratory venue for large groups.</p>\n\n<p style="text-align: left\;">Landmarked as a historical building\, this location was once home to the first ferry terminal to and from San Francisco\,&nbsp\;before the Golden Gate Bridge was built. Now converted into a modern casual eatery sure to put anyone &ldquo\;at-ease&rdquo\; with contemporary&nbsp\;twists on rustic comfort food.</p>\n\n<p>The Business Exchange Committee sets the Agenda of topics to be presented and discussed\, one week in advance of the meeting. Agendas are emailed our to members on the Friday prior to the meeting. If you would like to have a particular topic discussed at the meeting\, please contact the Chamber at 331-7262 or email <a href="mailto:Chamber@sausalito.org">Chamber@sausalito.org</a> at least two weeks prior the meeting.</p>\n
LOCATION:Barrel House Tavern 660 Bridgeway Sausalito\, CA 94965
UID:e.1780.1663
SEQUENCE:3
DTSTAMP:20260424T085658Z
URL:http://business.sausalito.org/events/details/business-exchange-forum-barrel-house-tavern-12-11-2018-1663
END:VEVENT

END:VCALENDAR
