BEGIN:VCALENDAR
VERSION:2.0
PRODID:-//ChamberMaster//Event Calendar 2.0//EN
METHOD:PUBLISH
X-PUBLISHED-TTL:P3D
REFRESH-INTERVAL:P3D
CALSCALE:GREGORIAN
BEGIN:VEVENT
DTSTART:20180911T150000Z
DTEND:20180911T163000Z
X-MICROSOFT-CDO-ALLDAYEVENT:FALSE
SUMMARY:Business Exchange Forum
DESCRIPTION:Business Exchange is a monthly business meeting where Chamber members\, the Chamber Chair and CEO\, the City Manager and representatives from the Chamber Board of Directors and City Council meet to discuss current business issues and to promote upcoming events and programs.\n\nThe Business Exchange Committee sets the Agenda of topics to be presented and discussed\, one week in advance of the meeting. Agendas are emailed our to members on the Friday prior to the meeting. If you would like to have a particular topic discussed at the meeting\, please contact the Chamber at 331-7262 or email Chamber@sausalito.org at least two weeks prior the meeting.
X-ALT-DESC;FMTTYPE=text/html:<p>Business Exchange is a monthly business meeting where Chamber members\, the Chamber Chair and CEO\, the City Manager and representatives from the Chamber Board of Directors and City Council meet to discuss current business issues and to promote upcoming events and programs.</p>\n\n<p>The Business Exchange Committee sets the Agenda of topics to be presented and discussed\, one week in advance of the meeting. Agendas are emailed our to members on the Friday prior to the meeting. If you would like to have a particular topic discussed at the meeting\, please contact the Chamber at 331-7262 or email <a href="mailto:Chamber@sausalito.org">Chamber@sausalito.org</a> at least two weeks prior the meeting.</p>\n
LOCATION:Studio 333 333 Caledonia Street Sausalito\, CA 94965
UID:e.1780.1660
SEQUENCE:3
DTSTAMP:20260424T131902Z
URL:http://business.sausalito.org/events/details/business-exchange-forum-09-11-2018-1660
END:VEVENT

END:VCALENDAR
