BEGIN:VCALENDAR
VERSION:2.0
PRODID:-//ChamberMaster//Event Calendar 2.0//EN
METHOD:PUBLISH
X-PUBLISHED-TTL:P3D
REFRESH-INTERVAL:P3D
CALSCALE:GREGORIAN
BEGIN:VEVENT
DTSTART;VALUE=DATE:20190611
DTEND;VALUE=DATE:20190612
TRANSP:TRANSPARENT
X-MICROSOFT-CDO-ALLDAYEVENT:TRUE
SUMMARY:Business Exchange - CANCELLED
DESCRIPTION:June Business Exchange has been cancelled. \n\nPlease attend a special presentation on MONDAY\, June 10\, 8:30-10:30am in City Council chambers. PG&E Power Shut off Meeting hosted by The Southern Marin Fire District. This infomation is valuable for all business owners in Sausalito\, please invite fellow business members to attend.
X-ALT-DESC;FMTTYPE=text/html:<u>June Business Exchange has been cancelled. </u><br />\nPlease attend a special presentation on MONDAY\, June 10\, 8:30-10:30am in City Council chambers. <span style="font-size: 14px\;">PG&amp\;E Power Shut off Meeting hosted by The Southern Marin Fire District. This infomation is valuable for all business owners in Sausalito\, please invite fellow business members to attend.</span>
LOCATION:
UID:e.1780.2000
SEQUENCE:3
DTSTAMP:20260423T203325Z
URL:http://business.sausalito.org/events/details/business-exchange-cancelled-2000
END:VEVENT

END:VCALENDAR
