BEGIN:VCALENDAR
VERSION:2.0
PRODID:-//ChamberMaster//Event Calendar 2.0//EN
METHOD:PUBLISH
X-PUBLISHED-TTL:P3D
REFRESH-INTERVAL:P3D
CALSCALE:GREGORIAN
BEGIN:VEVENT
DTSTART:20200327T020000Z
DTEND:20200327T033000Z
X-MICROSOFT-CDO-ALLDAYEVENT:FALSE
SUMMARY:Building Healthy Habits in 2020
DESCRIPTION:Admission is free\, but space is limited. Please RSVP at www.driversmarket.com Behavioral Food Therapist Katie Schmidt joins us to discuss the psychology behind creating good habits that stick and realistic steps you can take to establish nourishing rituals in the kitchen and beyond. The discussion will include   Research-backed strategies for establishing and sustaining good habits in daily life   The key habit that will help you get weeknight meals on the table quickly   A cooking demo & tasting of a tahini miso sauce   A "Pantry Kit" of kitchen staples to avoid cooking ruts and beat the blues! Katie Schmidt\, MPH is a Behavioral Food Therapist who helps her clients cultivate a healthy relationship to food and body. Katie recently moved to Sausalito after six years living and working with clients in Switzerland and Spain. Learn more about her work at www.wholenourishment.net
X-ALT-DESC;FMTTYPE=text/html:Admission is free\, but space is limited. Please RSVP at www.driversmarket.com Behavioral Food Therapist Katie Schmidt joins us to discuss the psychology behind creating good habits that stick and realistic steps you can take to establish nourishing rituals in the kitchen and beyond. The discussion will include &bull\; Research-backed strategies for establishing and sustaining good habits in daily life &bull\; The key habit that will help you get weeknight meals on the table quickly &bull\; A cooking demo &amp\; tasting of a tahini miso sauce &bull\; A &ldquo\;Pantry Kit&rdquo\; of kitchen staples to avoid cooking ruts and beat the blues! Katie Schmidt\, MPH is a Behavioral Food Therapist who helps her clients cultivate a healthy relationship to food and body. Katie recently moved to Sausalito after six years living and working with clients in Switzerland and Spain. Learn more about her work at www.wholenourishment.net
LOCATION:Drivers Market\, 200 Caledonia Street\, Sausalito CA
UID:e.1780.2392
SEQUENCE:3
DTSTAMP:20260423T071430Z
URL:http://business.sausalito.org/events/details/building-healthy-habits-in-2020-2392
END:VEVENT

END:VCALENDAR
