BEGIN:VCALENDAR
VERSION:2.0
PRODID:-//ChamberMaster//Event Calendar 2.0//EN
METHOD:PUBLISH
X-PUBLISHED-TTL:P3D
REFRESH-INTERVAL:P3D
CALSCALE:GREGORIAN
BEGIN:VEVENT
DTSTART:20191209T000000Z
DTEND:20191209T020000Z
X-MICROSOFT-CDO-ALLDAYEVENT:FALSE
SUMMARY:Bubble Street Gallery Holiday Celebration
DESCRIPTION:Daniel Merriam's Bubble Street Gallery Annual Holiday Celebration
X-ALT-DESC;FMTTYPE=text/html:Daniel Merriam&#39\;s Bubble Street Gallery Annual Holiday Celebration
LOCATION:565 Bridgeway Blvd. Sausalito\, CA 94965
UID:e.1780.2233
SEQUENCE:3
DTSTAMP:20260423T110917Z
URL:http://business.sausalito.org/events/details/bubble-street-gallery-holiday-celebration-2233
END:VEVENT

END:VCALENDAR
