BEGIN:VCALENDAR
VERSION:2.0
PRODID:-//ChamberMaster//Event Calendar 2.0//EN
METHOD:PUBLISH
X-PUBLISHED-TTL:P3D
REFRESH-INTERVAL:P3D
CALSCALE:GREGORIAN
BEGIN:VEVENT
DTSTART:20200122T170000Z
DTEND:20200122T180000Z
X-MICROSOFT-CDO-ALLDAYEVENT:FALSE
SUMMARY:Bridgeway & Princess Street Merchants Meeting
DESCRIPTION:Merchants Meeting for Chamber Members on Bridgeway & Princess Street.\n\n\n\nTopics:\n\n	Improving Downtown Lighting\n	Enforcing City Sign/Sale Ordinance\n	Business Advisory Committee Update\n	Hospitality Committee Update\n	Vehicle Break-Ins' Downtown\n	Delivery Truck Parking Issues
X-ALT-DESC;FMTTYPE=text/html:Merchants Meeting for Chamber Members on Bridgeway &amp\; Princess Street.<br />\n<br />\nTopics:\n<ul>\n	<li>Improving Downtown Lighting</li>\n	<li>Enforcing City Sign/Sale Ordinance</li>\n	<li>Business Advisory Committee Update</li>\n	<li>Hospitality Committee Update</li>\n	<li>Vehicle Break-Ins&#39\; Downtown</li>\n	<li>Delivery Truck Parking Issues</li>\n</ul>\n
LOCATION:9:00 AM -10:00 AM Location: TBD
UID:e.1780.2357
SEQUENCE:3
DTSTAMP:20260423T095300Z
URL:http://business.sausalito.org/events/details/bridgeway-princess-street-merchants-meeting-2357
END:VEVENT

END:VCALENDAR
