BEGIN:VCALENDAR
VERSION:2.0
PRODID:-//ChamberMaster//Event Calendar 2.0//EN
METHOD:PUBLISH
X-PUBLISHED-TTL:P3D
REFRESH-INTERVAL:P3D
CALSCALE:GREGORIAN
BEGIN:VEVENT
DTSTART:20190627T160000Z
DTEND:20190627T170000Z
X-MICROSOFT-CDO-ALLDAYEVENT:FALSE
SUMMARY:Bridgeway & Downtown Merchants Meeting
DESCRIPTION:The Chamber is inviting Bridgeway & Downtown Merchants & Business Owners to join a conversation.\n\n\n\nTopic how we can all work together to improve business opportunities\, help businesses thrive and bring awareness of the unique businesses we have in Sausalito. \n \n\nUpdates from April 15th meeting.\n\n\n\nPlease attend and be a part of the conversation. Together we can plan the future.\n\n\n\nFor more information\, you can email chamber@sausalito.org or call 415-331-7262.
X-ALT-DESC;FMTTYPE=text/html:<span style="background-color: rgb(255\, 255\, 255)\; color: rgb(29\, 33\, 41)\; font-family: Helvetica\, Arial\, sans-serif\; font-size: 14px\; white-space: pre-wrap\;">The Chamber is inviting Bridgeway &amp\; Downtown Merchants &amp\; Business Owners to join a conversation.<br />\n<br />\nTopic how we can all work together to improve business opportunities\, help businesses thrive and bring awareness of the unique businesses we have in Sausalito. </span>\n<div>&nbsp\;</div>\n\n<div><span style="background-color: rgb(255\, 255\, 255)\; color: rgb(29\, 33\, 41)\; font-family: Helvetica\, Arial\, sans-serif\; font-size: 14px\; white-space: pre-wrap\;">Updates from April 15th meeting.<br />\n<br />\nPlease attend and be a part of the conversation. Together we can plan the future.</span><br style="background-color: rgb(255\, 255\, 255)\; color: rgb(29\, 33\, 41)\; font-family: Helvetica\, Arial\, sans-serif\; font-size: 14px\; white-space: pre-wrap\;" />\n<br style="background-color: rgb(255\, 255\, 255)\; color: rgb(29\, 33\, 41)\; font-family: Helvetica\, Arial\, sans-serif\; font-size: 14px\; white-space: pre-wrap\;" />\n<span style="background-color: rgb(255\, 255\, 255)\; color: rgb(29\, 33\, 41)\; font-family: Helvetica\, Arial\, sans-serif\; font-size: 14px\; white-space: pre-wrap\;">For more information\, you can email chamber@sausalito.org or call 415-331-7262. </span></div>\n
LOCATION:Angelino's Restaurant 621 Bridgeway
UID:e.1780.2003
SEQUENCE:3
DTSTAMP:20260423T203416Z
URL:http://business.sausalito.org/events/details/bridgeway-downtown-merchants-meeting-2003
END:VEVENT

END:VCALENDAR
