BEGIN:VCALENDAR
VERSION:2.0
PRODID:-//ChamberMaster//Event Calendar 2.0//EN
METHOD:PUBLISH
X-PUBLISHED-TTL:P3D
REFRESH-INTERVAL:P3D
CALSCALE:GREGORIAN
BEGIN:VEVENT
DTSTART:20190415T160000Z
DTEND:20190415T173000Z
X-MICROSOFT-CDO-ALLDAYEVENT:FALSE
SUMMARY:Bridgeway & Downtown Merchants & Business Owners Meeting
DESCRIPTION:You do not need to be a Chamber Member to attend\n\n\n\n"Tax Day Conversation" - Drown Your Sorrows and Look Towards the Future!\n\n\n\nThe Chamber is inviting Bridgeway & Downtown Merchants & Business Owners to join a conversation on April 15\, from 9:00 to 10:30 am.\n\n\n\nTopic how we can all work together to improve business opportunities\, help businesses thrive and bring awareness of the unique businesses we have in Sausalito. Even during the Winter Months.\n\n\n\nPlease attend and be a part of the conversation. Together we can plan the future.\n\n\n\nFor more information\, you can email chamber@sausalito.org or call 415-331-7262.
X-ALT-DESC;FMTTYPE=text/html:<strong style="color: rgb(51\, 51\, 51)\; font-family: sans-serif\, Arial\, Verdana\, &quot\;Trebuchet MS&quot\;\; font-size: 13px\;"><span style="color: rgb(29\, 33\, 41)\; font-family: Helvetica\, Arial\, sans-serif\; font-size: 14px\; white-space: pre-wrap\; background-color: rgb(255\, 255\, 255)\;">You do not need to be a Chamber Member to attend</span><br />\n<br />\n<span style="color:#B22222\;"><span style="font-family: Helvetica\, Arial\, sans-serif\; font-size: 14px\; white-space: pre-wrap\; background-color: rgb(255\, 255\, 255)\;">&quot\;Tax Day Conversation&quot\; - Drown Your Sorrows and Look Towards the Future!</span></span></strong><br />\n<br />\n<span style="color: rgb(29\, 33\, 41)\; font-family: Helvetica\, Arial\, sans-serif\; font-size: 14px\; white-space: pre-wrap\; background-color: rgb(255\, 255\, 255)\;">The Chamber is inviting Bridgeway &amp\; Downtown Merchants &amp\; Business Owners to join a conversation on April 15\, from 9:00 to 10:30 am.<br />\n<br />\nTopic how we can all work together to improve business opportunities\, help businesses thrive and bring awareness of the unique businesses we have in Sausalito. Even during the Winter Months.<br />\n<br />\nPlease attend and be a part of the conversation. Together we can plan the future.</span><br style="color: rgb(29\, 33\, 41)\; font-family: Helvetica\, Arial\, sans-serif\; font-size: 14px\; white-space: pre-wrap\; background-color: rgb(255\, 255\, 255)\;" />\n<br style="color: rgb(29\, 33\, 41)\; font-family: Helvetica\, Arial\, sans-serif\; font-size: 14px\; white-space: pre-wrap\; background-color: rgb(255\, 255\, 255)\;" />\n<span style="color: rgb(29\, 33\, 41)\; font-family: Helvetica\, Arial\, sans-serif\; font-size: 14px\; white-space: pre-wrap\; background-color: rgb(255\, 255\, 255)\;">For more information\, you can email chamber@sausalito.org or call 415-331-7262. </span>
LOCATION:Events Ondine & The Trident will be hosting
UID:e.1780.1948
SEQUENCE:3
DTSTAMP:20260423T235110Z
URL:http://business.sausalito.org/events/details/bridgeway-downtown-merchants-business-owners-meeting-1948
END:VEVENT

END:VCALENDAR
