BEGIN:VCALENDAR
VERSION:2.0
PRODID:-//ChamberMaster//Event Calendar 2.0//EN
METHOD:PUBLISH
X-PUBLISHED-TTL:P3D
REFRESH-INTERVAL:P3D
CALSCALE:GREGORIAN
BEGIN:VEVENT
DTSTART:20181201T163000Z
DTEND:20181201T190000Z
X-MICROSOFT-CDO-ALLDAYEVENT:FALSE
SUMMARY:Breakfast with Santa
DESCRIPTION:Breakfast with Santa - REGISTRATION OPENS NOVEMBER 5 Santa's coming! He's making a special trip to the Sausalito Yacht Club to eat breakfast with you and your family! It will be a magical morning where kids will make holiday crafts and visit with Santa while elves prepare a delicious breakfast of pancakes and sausage. Don't forget your wish list and camera! Bring a toy to donate to the Marin Performing Stars Holiday Toy Drive! There are two seatings to choose from\, the 8:30 a.m. seating sees Santa arrive and the 10:00 a.m. gets to see him return to the North Pole! PRE-REGISTERING IS REQUIRED   REGISTRATION OPENS NOVEMBER 5 CALL 415-289-4152 to register Cost: $15 each for residents/$18 each for non-residents FREE FOR CHILDREN 2 AND UNDER
X-ALT-DESC;FMTTYPE=text/html:Breakfast with Santa - REGISTRATION OPENS NOVEMBER 5 Santa&rsquo\;s coming! He&rsquo\;s making a special trip to the Sausalito Yacht Club to eat breakfast with you and your family! It will be a magical morning where kids will make holiday crafts and visit with Santa while elves prepare a delicious breakfast of pancakes and sausage. Don&rsquo\;t forget your wish list and camera! Bring a toy to donate to the Marin Performing Stars Holiday Toy Drive! There are two seatings to choose from\, the 8:30 a.m. seating sees Santa arrive and the 10:00 a.m. gets to see him return to the North Pole! PRE-REGISTERING IS REQUIRED &ndash\; REGISTRATION OPENS NOVEMBER 5 CALL 415-289-4152 to register Cost: $15 each for residents/$18 each for non-residents FREE FOR CHILDREN 2 AND UNDER
LOCATION:Sausalito Yacht Club
UID:e.1780.1855
SEQUENCE:3
DTSTAMP:20260424T070505Z
URL:http://business.sausalito.org/events/details/breakfast-with-santa-1855
END:VEVENT

END:VCALENDAR
