BEGIN:VCALENDAR
VERSION:2.0
PRODID:-//ChamberMaster//Event Calendar 2.0//EN
METHOD:PUBLISH
X-PUBLISHED-TTL:P3D
REFRESH-INTERVAL:P3D
CALSCALE:GREGORIAN
BEGIN:VEVENT
DTSTART:20191214T180000Z
DTEND:20191214T233000Z
X-MICROSOFT-CDO-ALLDAYEVENT:FALSE
SUMMARY:Book Signing - Beauty and The Beast: California Wildflowers and Climate Change
DESCRIPTION:The beautifully illustrated coffee table book\, Beauty and The Beast: California Wildflowers and Climate Change\, will be available at a book signing on December 14th\, 10am 3:30pm. Rob Badger and Nita Winter's book\, a companion to their recent educational exhibit displayed at the Bay Model last April and May\, features 190 stunning wildflower portraits and landscapes. Beauty and the Beast includes short stories by 16 passionate scientists and nature writers representing over a dozen conservation organizations\, government agencies and universities.
X-ALT-DESC;FMTTYPE=text/html:The beautifully illustrated coffee table book\, Beauty and The Beast: California Wildflowers and Climate Change\, will be available at a book signing on December 14th\, 10am&ndash\;3:30pm. Rob Badger and Nita Winter&rsquo\;s book\, a companion to their recent educational exhibit displayed at the Bay Model last April and May\, features 190 stunning wildflower portraits and landscapes. Beauty and the Beast includes short stories by 16 passionate scientists and nature writers representing over a dozen conservation organizations\, government agencies and universities.
LOCATION:The Bay Model Visitor Center 2100 Bridgeway Sausalito\, CA 94965 Phone: (415) 289-3007 http://www.spn.usace.army.mil/Missions/Recreation/Bay-Model-Visitor-Center/
UID:e.1780.2240
SEQUENCE:3
DTSTAMP:20260423T111455Z
URL:http://business.sausalito.org/events/details/book-signing-beauty-and-the-beast-california-wildflowers-and-climate-change-2240
END:VEVENT

END:VCALENDAR
