BEGIN:VCALENDAR
VERSION:2.0
PRODID:-//ChamberMaster//Event Calendar 2.0//EN
METHOD:PUBLISH
X-PUBLISHED-TTL:P3D
REFRESH-INTERVAL:P3D
CALSCALE:GREGORIAN
BEGIN:VEVENT
DTSTART:20190629T210000Z
DTEND:20190629T230000Z
X-MICROSOFT-CDO-ALLDAYEVENT:FALSE
SUMMARY:Body of Water
DESCRIPTION:Join Michael Stocker\, Executive Director of Ocean Conservation Research\, in a discussion about the health of our oceans. OCR focuses on an array of projects that endeavor to advance our understanding about how animals perceive and use sound in order to assess the effects of ocean noise pollution on their survival. OCR uses that understanding to inform the public\, policymakers\, and stakeholders on issues of ocean noise pollution so that we may all become better stewards of the sea. www.ocr.org
X-ALT-DESC;FMTTYPE=text/html:Join Michael Stocker\, Executive Director of Ocean Conservation Research\, in a discussion about the health of our oceans. OCR focuses on an array of projects that endeavor to advance our understanding about how animals perceive and use sound in order to assess the effects of ocean noise pollution on their survival. OCR uses that understanding to inform the public\, policymakers\, and stakeholders on issues of ocean noise pollution so that we may all become better stewards of the sea. www.ocr.org
LOCATION:Bay Model Visitor Center 2100 Bridgeway Sausalito\, CA 94965 415-332-3871
UID:e.1780.1989
SEQUENCE:3
DTSTAMP:20260423T203706Z
URL:http://business.sausalito.org/events/details/body-of-water-1989
END:VEVENT

END:VCALENDAR
