BEGIN:VCALENDAR
VERSION:2.0
PRODID:-//ChamberMaster//Event Calendar 2.0//EN
METHOD:PUBLISH
X-PUBLISHED-TTL:P3D
REFRESH-INTERVAL:P3D
CALSCALE:GREGORIAN
BEGIN:VEVENT
DTSTART:20190920T003000Z
DTEND:20190920T023000Z
X-MICROSOFT-CDO-ALLDAYEVENT:FALSE
SUMMARY:Best Friends Pet Supply Mixer
DESCRIPTION:Come Mix and Mingle at the September Mixer!\n\nBest Friends Pet Supplies is Sausalito's premier pet supply store. We carry a wide variety of high quality food and supplies. Networking Opportunity open to all Chamber Members and members of the Community.
X-ALT-DESC;FMTTYPE=text/html:Come Mix and Mingle at the September Mixer!<br />\nBest Friends Pet Supplies is Sausalito&#39\;s premier pet supply store. We carry a wide variety of high quality food and supplies. Networking Opportunity open to all Chamber Members and members of the Community.
LOCATION:219 Caledonia Street Sausalito\, CA
UID:e.1780.2030
SEQUENCE:3
DTSTAMP:20260423T154124Z
URL:http://business.sausalito.org/events/details/best-friends-pet-supply-mixer-2030
END:VEVENT

END:VCALENDAR
