BEGIN:VCALENDAR
VERSION:2.0
PRODID:-//ChamberMaster//Event Calendar 2.0//EN
METHOD:PUBLISH
X-PUBLISHED-TTL:P3D
REFRESH-INTERVAL:P3D
CALSCALE:GREGORIAN
BEGIN:VEVENT
DTSTART:20181028T200000Z
DTEND:20181028T230000Z
X-MICROSOFT-CDO-ALLDAYEVENT:FALSE
SUMMARY:Beeswax Collage Workshop
DESCRIPTION:Create beautiful art on canvas\, using melted beeswax\, mulberry paper\, tissue and found images. All materials provided. Students also have the option to bring photocopies of a small drawing\, a quote\, or other paper ephemera. Adults/teens all levels welcome! Students will leave with a collage on an 8.5x10.5-inch canvas. If there is time\, they can make a second 5x7-inch collage.
X-ALT-DESC;FMTTYPE=text/html:Create beautiful art on canvas\, using melted beeswax\, mulberry paper\, tissue and found images. All materials provided. Students also have the option to bring photocopies of a small drawing\, a quote\, or other paper ephemera. Adults/teens&mdash\;all levels welcome! Students will leave with a collage on an 8.5x10.5-inch canvas. If there is time\, they can make a second 5x7-inch collage.
LOCATION:Studio 333\, 333 Caledonia St.\, Sausalito
UID:e.1780.1843
SEQUENCE:3
DTSTAMP:20260424T111213Z
URL:http://business.sausalito.org/events/details/beeswax-collage-workshop-1843
END:VEVENT

END:VCALENDAR
