BEGIN:VCALENDAR
VERSION:2.0
PRODID:-//ChamberMaster//Event Calendar 2.0//EN
METHOD:PUBLISH
X-PUBLISHED-TTL:P3D
REFRESH-INTERVAL:P3D
CALSCALE:GREGORIAN
BEGIN:VEVENT
DTSTART:20190406T200000Z
DTEND:20190406T220000Z
X-MICROSOFT-CDO-ALLDAYEVENT:FALSE
SUMMARY:Beauty and the Beast: California Wildflowers and Climate Change – Artist Reception
DESCRIPTION:Award-winning photographers Rob Badger and Nita Winter have spent 20 years capturing California's vanishing wildflowers\, bringing awareness to their beauty as well as to the dangers facing our natural habitats from climate change. The exhibition emphasizes Marin's landscapes but also includes diverse geographic regions of California. It is sponsored by the Marin chapter of the California Native Plant Society\, with support from the Buck Family Fund and MMWD. Guest speakers on climate change issues and wildflower hikes in Marin will be scheduled during April and May. See www.cnpsmarin.org for full details. April 2 - June 1\, 2019 Exhibition Dates Reception: Sat April 6\, 1 3pm
X-ALT-DESC;FMTTYPE=text/html:Award-winning photographers Rob Badger and Nita Winter have spent 20 years capturing California&rsquo\;s vanishing wildflowers\, bringing awareness to their beauty as well as to the dangers facing our natural habitats from climate change. The exhibition emphasizes Marin&rsquo\;s landscapes but also includes diverse geographic regions of California. It is sponsored by the Marin chapter of the California Native Plant Society\, with support from the Buck Family Fund and MMWD. Guest speakers on climate change issues and wildflower hikes in Marin will be scheduled during April and May. See www.cnpsmarin.org for full details. April 2 - June 1\, 2019 Exhibition Dates Reception: Sat April 6\, 1&ndash\;3pm
LOCATION:Bay Model Visitor Center 2100 Bridgeway Sausalito\, CA 94965 415-332-3871
UID:e.1780.1960
SEQUENCE:3
DTSTAMP:20260423T235348Z
URL:http://business.sausalito.org/events/details/beauty-and-the-beast-california-wildflowers-and-climate-change-artist-reception-1960
END:VEVENT

END:VCALENDAR
