BEGIN:VCALENDAR
VERSION:2.0
PRODID:-//ChamberMaster//Event Calendar 2.0//EN
METHOD:PUBLISH
X-PUBLISHED-TTL:P3D
REFRESH-INTERVAL:P3D
CALSCALE:GREGORIAN
BEGIN:VEVENT
DTSTART:20191112T160000Z
DTEND:20191112T173000Z
X-MICROSOFT-CDO-ALLDAYEVENT:FALSE
SUMMARY:Annual Meeting Business Exchange
DESCRIPTION:Chamber Annual Meeting - Introduction of 2020 Board of Directors and program presented by PayChecks.  Annual Meeting will include a report from the Chamber CEO\, Treasurer and the Board President on accomplishments in 2019 and looking forward to 2020.
X-ALT-DESC;FMTTYPE=text/html:<p style="color: rgb(0\, 0\, 0)\; font-family: Calibri\, sans-serif\; font-size: 14px\; font-style: normal\; font-variant-caps: normal\; font-weight: normal\; letter-spacing: normal\; orphans: auto\; text-align: start\; text-indent: 0px\; text-transform: none\; white-space: normal\; widows: auto\; word-spacing: 0px\; -webkit-text-size-adjust: auto\; -webkit-text-stroke-width: 0px\;">Chamber Annual Meeting - Introduction of 2020 Board of Directors and program presented by PayChecks.&nbsp\; Annual Meeting will include a report from the Chamber CEO\, Treasurer and the Board President on accomplishments in 2019 and looking forward to 2020.</p>\n
LOCATION:The Bay Model 2100 Bridgeway Sausalito\, CA 94965
UID:e.1780.1674
SEQUENCE:3
DTSTAMP:20260423T124347Z
URL:http://business.sausalito.org/events/details/annual-meeting-business-exchange-1674
END:VEVENT

END:VCALENDAR
