BEGIN:VCALENDAR
VERSION:2.0
PRODID:-//ChamberMaster//Event Calendar 2.0//EN
METHOD:PUBLISH
X-PUBLISHED-TTL:P3D
REFRESH-INTERVAL:P3D
CALSCALE:GREGORIAN
BEGIN:VEVENT
DTSTART:20190726T001500Z
DTEND:20190726T033000Z
X-MICROSOFT-CDO-ALLDAYEVENT:FALSE
SUMMARY:An Evening with Author John Briscoe & Wine Reception
DESCRIPTION:Join us for a special evening as we welcome John Briscoe\, author of "Crush: The Triumph of California Wine". Published in September 2018\, "Crush" tells the fascinating 200-year history of wine-making in California and the dream of making wines as good as the greatest in France. Enjoy a conversation and book signing with John Briscoe\, along with wine tasting with several local wineries\, light snacks\, and 15% savings at the Mercantile\, where "Crush" is being sold. 5:15pm Doors open @ Mission Blue Chapel 6-7pm Conversation with John Briscoe and Stephen Andrews\, host of Slow Living Radio  7:00-8:30pm Wine Tasting & Book Signing @ Mercantile & Art Gallery WINES TO BE POURED HALL & WALT Wines\, Sequoia Grove Winery and Smith Story Wine Cellars $20 / person (space is limited) Books will be available for purchase at the event
X-ALT-DESC;FMTTYPE=text/html:Join us for a special evening as we welcome John Briscoe\, author of &ldquo\;Crush: The Triumph of California Wine&rdquo\;. Published in September 2018\, &ldquo\;Crush&rdquo\; tells the fascinating 200-year history of wine-making in California and the dream of making wines as good as the greatest in France. Enjoy a conversation and book signing with John Briscoe\, along with wine tasting with several local wineries\, light snacks\, and 15% savings at the Mercantile\, where &ldquo\;Crush&rdquo\; is being sold. 5:15pm Doors open @ Mission Blue Chapel 6-7pm Conversation with John Briscoe and Stephen Andrews\, host of Slow Living Radio&reg\; 7:00-8:30pm Wine Tasting &amp\; Book Signing @ Mercantile &amp\; Art Gallery WINES TO BE POURED HALL &amp\; WALT Wines\, Sequoia Grove Winery and Smith Story Wine Cellars $20 / person (space is limited) Books will be available for purchase at the event
LOCATION:Cavallo Point Cavallo Point Mission Blue Chapel Sausalito\, California 94965 United States
UID:e.1780.2022
SEQUENCE:3
DTSTAMP:20260423T184312Z
URL:http://business.sausalito.org/events/details/an-evening-with-author-john-briscoe-wine-reception-2022
END:VEVENT

END:VCALENDAR
