BEGIN:VCALENDAR
VERSION:2.0
PRODID:-//ChamberMaster//Event Calendar 2.0//EN
METHOD:PUBLISH
X-PUBLISHED-TTL:P3D
REFRESH-INTERVAL:P3D
CALSCALE:GREGORIAN
BEGIN:VEVENT
DTSTART:20180213T023000Z
DTEND:20180213T040000Z
X-MICROSOFT-CDO-ALLDAYEVENT:FALSE
SUMMARY:Ambassador Meeting
DESCRIPTION:Ambassador Meeting February 12\n\nJoin Bridget of Barcelino and others as we work towards a strong Ambassador Committee that will uphold the Chambers Mission & Values on a direct Membership Level. \n\n\n\nThis February Meeting will focus on the upcoming Late Night New Member Meeting\, to be held February 28 at the Chamber Office.
X-ALT-DESC;FMTTYPE=text/html:<div style="font-family: Arial\, Helvetica\, sans-serif\; font-size: 14.666666984558105px\; font-style: normal\; font-variant-caps: normal\; font-weight: normal\; letter-spacing: normal\; orphans: auto\; text-align: start\; text-indent: 0px\; text-transform: none\; white-space: normal\; widows: auto\; word-spacing: 0px\; -webkit-text-size-adjust: auto\; -webkit-text-stroke-width: 0px\; color: rgb(10\, 116\, 219)\;"><strong>Ambassador Meeting February 12</strong></div>\n\n<div><span style="font-size:14px\;">Join Bridget of Barcelino and others as we work&nbsp\;towards a strong Ambassador Committee that&nbsp\;will uphold the Chambers Mission &amp\; Values&nbsp\;on a direct Membership Level.&nbsp\;<br />\n<br />\nThis February Meeting will focus on the upcoming Late&nbsp\;Night New&nbsp\;Member Meeting\, to be held February 28 at the Chamber Office.</span></div>\n
LOCATION:1913 Bridgeway Sausalito\, CA 94965
UID:e.1780.1786
SEQUENCE:3
DTSTAMP:20260425T004338Z
URL:http://business.sausalito.org/events/details/ambassador-meeting-1786
END:VEVENT

END:VCALENDAR
