BEGIN:VCALENDAR
VERSION:2.0
PRODID:-//ChamberMaster//Event Calendar 2.0//EN
METHOD:PUBLISH
X-PUBLISHED-TTL:P3D
REFRESH-INTERVAL:P3D
CALSCALE:GREGORIAN
BEGIN:VEVENT
DTSTART:20220422T000000Z
DTEND:20220422T020000Z
X-MICROSOFT-CDO-ALLDAYEVENT:FALSE
SUMMARY:Aloha Chamber Mixer
DESCRIPTION:This is a Members Only Event. \n\nEnjoy reconnecting with other business owners and community members.  Put on your hula skirt and join us for a Hawaiian Themed Mixer.  Enjoy a Pau Hana appetizer and Maui Waui draft and Trident Punch.
X-ALT-DESC;FMTTYPE=text/html:This is a Members Only Event.&nbsp\;<br />\nEnjoy reconnecting with other business owners and community members.&nbsp\;&nbsp\;<span style="color: rgb(51\, 51\, 51)\; font-family: sans-serif\, Arial\, Verdana\, &quot\;Trebuchet MS&quot\;\; font-size: 13px\; background-color: rgb(255\, 255\, 255)\;">Put on your hula skirt and join us for a Hawaiian Themed Mixer.&nbsp\; Enjoy a Pau Hana appetizer and Maui Waui draft and Trident Punch.</span>
LOCATION:The Trident - 558 Bridgeway
UID:e.1780.3453
SEQUENCE:3
DTSTAMP:20260421T133425Z
URL:http://business.sausalito.org/events/details/aloha-chamber-mixer-3453
END:VEVENT

END:VCALENDAR
