BEGIN:VCALENDAR
VERSION:2.0
PRODID:-//ChamberMaster//Event Calendar 2.0//EN
METHOD:PUBLISH
X-PUBLISHED-TTL:P3D
REFRESH-INTERVAL:P3D
CALSCALE:GREGORIAN
BEGIN:VEVENT
DTSTART:20200724T003000Z
DTEND:20200724T023000Z
X-MICROSOFT-CDO-ALLDAYEVENT:FALSE
SUMMARY:All County Mixer - Hosted by Sausalito Chamber
DESCRIPTION:The Sausalito Chamber will host the All-County Mixer via Zoom.  You will be able to meet people & enjoy learning everything from Wine Paring to a Private Tour of the Matthew Turner Tall Ship.  You might even be able to play a little trivia hosted my Rick Tosh of Brainstormer Trivia or learn how fused glass jewelry is made.
X-ALT-DESC;FMTTYPE=text/html:The Sausalito Chamber will host the All-County Mixer via Zoom.&nbsp\; You will be able to meet people &amp\; enjoy learning everything from Wine Paring to a Private Tour of the Matthew Turner Tall Ship.&nbsp\; You might even be able to play a little trivia hosted my Rick Tosh of Brainstormer Trivia or learn how fused glass jewelry is made.
LOCATION:Register Here Registration opens July 1st and closes July 22 @ 12:00 (noon)
UID:e.1780.2410
SEQUENCE:3
DTSTAMP:20260423T011914Z
URL:http://business.sausalito.org/events/details/all-county-mixer-hosted-by-sausalito-chamber-2410
END:VEVENT

END:VCALENDAR
