BEGIN:VCALENDAR
VERSION:2.0
PRODID:-//ChamberMaster//Event Calendar 2.0//EN
METHOD:PUBLISH
X-PUBLISHED-TTL:P3D
REFRESH-INTERVAL:P3D
CALSCALE:GREGORIAN
BEGIN:VEVENT
DTSTART:20190725T003000Z
DTEND:20190725T023000Z
X-MICROSOFT-CDO-ALLDAYEVENT:FALSE
SUMMARY:All County Mixer
DESCRIPTION:Beer\, Wine and Hors D'oeurves on Angel Island Ferry Dock located at 21 Main Street in Tiburon\n\n  Beer and Wine for purchase\n\n  Complimentary Hors D'oeurves provided by local Tiburon Restaurants\n\n______________\n\nThe Marin chambers of commerce invite you to attend the 2019 All County Mixer. This mixer intends to encourage cross-county economic growth across the county by bringing leaders of industries\, innovative businesses and community organizations together in order to foster economic growth.\n\n\n\nTogether we are building a stronger Marin County economy\, and we invite all businesses to join us in participating.
X-ALT-DESC;FMTTYPE=text/html:&bull\; Beer\, Wine and Hors D&rsquo\;oeurves on Angel&nbsp\;Island Ferry Dock located at 21 Main&nbsp\;Street in Tiburon<br />\n&bull\; Beer and Wine for&nbsp\;purchase<br />\n&bull\; Complimentary&nbsp\;Hors D&rsquo\;oeurves provided by local Tiburon&nbsp\;Restaurants<br />\n______________<br />\n<span>The Marin chambers of commerce invite you to attend the 2019 All County Mixer. This mixer intends to encourage cross-county economic growth across the county by bringing leaders of industries\, innovative businesses and community organizations together in order to foster economic growth.<br />\n<br />\nTogether we are building a stronger Marin County economy\, and we invite all businesses to join us in participating. </span>
LOCATION:
UID:e.1780.1941
SEQUENCE:3
DTSTAMP:20260423T203357Z
URL:http://business.sausalito.org/events/details/all-county-mixer-1941
END:VEVENT

END:VCALENDAR
