BEGIN:VCALENDAR
VERSION:2.0
PRODID:-//ChamberMaster//Event Calendar 2.0//EN
METHOD:PUBLISH
X-PUBLISHED-TTL:P3D
REFRESH-INTERVAL:P3D
CALSCALE:GREGORIAN
BEGIN:VEVENT
DTSTART:20181021T200000Z
DTEND:20181021T230000Z
X-MICROSOFT-CDO-ALLDAYEVENT:FALSE
SUMMARY:Alcohol Ink Art Workshop
DESCRIPTION:Have you longed to try some art? Join instructor Casey Rasmussen White for a brilliant introduction into an expressive afternoon with alcohol ink. Absolutely no experience necessary! All materials will be provided. We will create four luminous 4 x 6 pieces on special paper and two more on glass and ceramic tiles. Join us and find your artistic voice in a splash of color and intuitive flow. Click through the photos to see examples. Snacks\, wine and chocolate will be served.
X-ALT-DESC;FMTTYPE=text/html:Have you longed to try some art? Join instructor Casey Rasmussen White for a brilliant introduction into an expressive afternoon with alcohol ink. Absolutely no experience necessary! All materials will be provided. We will create four luminous 4 x 6 pieces on special paper and two more on glass and ceramic tiles. Join us and find your artistic voice in a splash of color and intuitive flow. Click through the photos to see examples. Snacks\, wine and chocolate will be served.
LOCATION:Studio 333\, 333 Caledonia St.\, Sausalito
UID:e.1780.1842
SEQUENCE:3
DTSTAMP:20260424T111226Z
URL:http://business.sausalito.org/events/details/alcohol-ink-art-workshop-1842
END:VEVENT

END:VCALENDAR
