BEGIN:VCALENDAR
VERSION:2.0
PRODID:-//ChamberMaster//Event Calendar 2.0//EN
METHOD:PUBLISH
X-PUBLISHED-TTL:P3D
REFRESH-INTERVAL:P3D
CALSCALE:GREGORIAN
BEGIN:VEVENT
DTSTART:20190220T163000Z
DTEND:20190220T180000Z
X-MICROSOFT-CDO-ALLDAYEVENT:FALSE
SUMMARY:Active Shooter Awareness Seminar
DESCRIPTION:Active Shooter Awareness Seminar\n\nOpen to Chamber Members Only
X-ALT-DESC;FMTTYPE=text/html:Active Shooter Awareness Seminar<br />\nOpen to Chamber Members Only
LOCATION:Bay Model 2100 Bridgeway - Sausalito
UID:e.1780.1904
SEQUENCE:3
DTSTAMP:20260424T030723Z
URL:http://business.sausalito.org/events/details/active-shooter-awareness-seminar-1904
END:VEVENT

END:VCALENDAR
