BEGIN:VCALENDAR
VERSION:2.0
PRODID:-//ChamberMaster//Event Calendar 2.0//EN
METHOD:PUBLISH
X-PUBLISHED-TTL:P3D
REFRESH-INTERVAL:P3D
CALSCALE:GREGORIAN
BEGIN:VEVENT
DTSTART:20191008T160000Z
DTEND:20191117T000000Z
X-MICROSOFT-CDO-ALLDAYEVENT:FALSE
SUMMARY:A Seaweed Sanctuary – Art Exhibition
DESCRIPTION:Josie Iselin and Ellen Litwiller come together with delightful visions of seaweed and the wonders that live within. Although they work in different mediums\, both have extensive experience bringing art and science together\, Josie's newest book recently out 'The Curious World of Seaweed" and Ellen's exhibit/illustration work for Natural History Museums/publications. Their work engages and challenges the way we can observe\, appreciate and learn about the underwater world of seaweed. October 8   November 16\, 2019
X-ALT-DESC;FMTTYPE=text/html:Josie Iselin and Ellen Litwiller come together with delightful visions of seaweed and the wonders that live within. Although they work in different mediums\, both have extensive experience bringing art and science together\, Josie&#39\;s newest book recently out &rsquo\;The Curious World of Seaweed&rdquo\; and Ellen&rsquo\;s exhibit/illustration work for Natural History Museums/publications. Their work engages and challenges the way we can observe\, appreciate and learn about the underwater world of seaweed. October 8 &ndash\; November 16\, 2019
LOCATION:The Bay Model Visitor Center 2100 Bridgeway Sausalito\, CA 94965 415.289.3007 http://www.spn.usace.army.mil/Missions/Recreation/Bay-Model-Visitor-Center/
UID:e.1780.2042
SEQUENCE:3
DTSTAMP:20260423T124348Z
URL:http://business.sausalito.org/events/details/a-seaweed-sanctuary-art-exhibition-2042
END:VEVENT

END:VCALENDAR
