BEGIN:VCALENDAR
VERSION:2.0
PRODID:-//ChamberMaster//Event Calendar 2.0//EN
METHOD:PUBLISH
X-PUBLISHED-TTL:P3D
REFRESH-INTERVAL:P3D
CALSCALE:GREGORIAN
BEGIN:VEVENT
DTSTART:20220704T170000Z
DTEND:20220705T043000Z
X-MICROSOFT-CDO-ALLDAYEVENT:FALSE
SUMMARY:4th of July Parade and Picnic
DESCRIPTION:4th of July Festivities are back in full swing!!\n\nThis day full of events is free and open to the public. We are celebrating with a parade\, live music\, food\, games\, and fireworks!\n\nIf you are interested in being part of the parade please fill out this Entry Form.\n\nOur parade will commence at 10:00am down Bridgeway and Caledonia. Everyone is invited to gather for an afternoon picnic at Dunphy Park. There\, Marin locals\, The Humdinger Band will  cover rock favorites from 12:30-4:30pm from the gazebo. \n\nThe evening events will take place at Gabrielson Park. Neon Velvet is sure to keep you dancing from 6:30-9pm. Fireworks will begin around 9:15pm and last for half an hour. \n\nBlankets\, beach chairs\, and lots of sunscreen are also recommended.
X-ALT-DESC;FMTTYPE=text/html:<p><span style="color: rgb(255\, 0\, 0)\;"><strong>4th of July Festivities are back in full swing!!</strong></span><br />\nThis day full of events is free and open to the public. We are celebrating with a parade\, live music\, food\, games\, and fireworks!</p>\n\n<p><strong>If you are interested in being part of the parade please fill out this <a href="https://forms.gle/Rkn7ekJpQDvehknK7" target="_blank">Entry Form</a>.</strong></p>\n\n<p>Our parade will commence at 10:00am down Bridgeway and Caledonia.&nbsp\;<span style="background-color: transparent\; color: inherit\; font-size: inherit\;">Everyone is invited to gather for an afternoon picnic at Dunphy Park. There\,&nbsp\;</span><span style="background-color: transparent\; color: inherit\; font-size: inherit\;">Marin locals\,&nbsp\;</span><a href="https://m.facebook.com/The-Humdinger-Band-111853755827109/" style="font-size: inherit\;" tabindex="-1" target="_blank">The Humdinger Band</a>&nbsp\;will <span style="background-color: transparent\; color: inherit\; font-size: inherit\;"> cover rock favorites&nbsp\;from 12:30-4:30pm from the gazebo.&nbsp\;</span></p>\n\n<p>The evening events will take place at Gabrielson Park. <a href="https://www.neonvelvet.net/" tabindex="-1" target="_blank">Neon Velvet</a>&nbsp\;is sure to keep you dancing from 6:30-9pm.&nbsp\;<span style="background-color: transparent\; color: inherit\; font-size: inherit\;">Fireworks will begin around 9:15pm and last for half an hour.&nbsp\;</span></p>\n\n<p style="text-align: justify\;"><span style="background-color: transparent\; color: inherit\; font-size: inherit\;">Blankets\, beach chairs\, and lots of sunscreen are also recommended.&nbsp\;</span></p>\n
LOCATION:
UID:e.1780.3491
SEQUENCE:3
DTSTAMP:20260421T083734Z
URL:http://business.sausalito.org/events/details/4th-of-july-parade-and-picnic-3491
END:VEVENT

END:VCALENDAR
