BEGIN:VCALENDAR
VERSION:2.0
PRODID:-//ChamberMaster//Event Calendar 2.0//EN
METHOD:PUBLISH
X-PUBLISHED-TTL:P3D
REFRESH-INTERVAL:P3D
CALSCALE:GREGORIAN
BEGIN:VEVENT
DTSTART:20180128T183000Z
DTEND:20180129T000000Z
X-MICROSOFT-CDO-ALLDAYEVENT:FALSE
SUMMARY:2018 SCBC Herring Celebration
DESCRIPTION:End of January is time to celebrate our local herring and support SCBC at Cass Gidley! We will once again provide the opportunity to see a great film\, enjoy tasty herring dishes from local chefs\, and hear some lively tunes   all while supporting development of the Sausalito Community Boating Center at Cass Gidley Marina. The event will take place at the Bay Model Visitor Center\, Sausalito. Some of the highlights:   See the powerful Emmy award winning film "Sonic Sea"   Join a post-film conversation with ocean experts   Indulge in delicious herring dishes presented by Sausalito restaurants   Enjoy lively music by the Fishwives\, official band of Sea Forager   Take a docent-guided tour of the Tall Ship Matthew Turner   Experience an educational whale exhibit from NOAA/Greater Farallones NMS   Learn the latest about the SCBC at Cass Gidley Marina project Participating restaurants include: Fish\, Chef Davey Jones\, Angelino\, Joinery and Osteria Divino. Wine will be on offer\, and Fort Point Brew Co will pour beer. Enjoy popcorn with your movie courtesy of Driver's Market. Tickets are limited   purchase tickets & get all the details here: https://scbcherringcelebration.eventbrite.com Tickets are $40 for the Film and Herring Plate Lunch. Beverages are $5. Supporters have a choice of Two Screenings for "Sonic Sea"   Ticket #A   Morning: 11:00am Screening + 1:00pm Herring Lunch (Doors Open 10:30)   Ticket #B   Afternoon: 1:00pm Herring Lunch + 2:30pm Screening (Doors Open 1:00) This event is a fundraiser to support Phase I renovation of the SCBC site at Cass Gidley Marina. This vital work will provide safe access to the water so we may begin programming\, and is expected to begin this winter.
X-ALT-DESC;FMTTYPE=text/html:End of January is time to celebrate our local herring and support SCBC at Cass Gidley! We will once again provide the opportunity to see a great film\, enjoy tasty herring dishes from local chefs\, and hear some lively tunes &ndash\; all while supporting development of the Sausalito Community Boating Center at Cass Gidley Marina. The event will take place at the Bay Model Visitor Center\, Sausalito. Some of the highlights: &bull\; See the powerful Emmy award winning film &quot\;Sonic Sea&quot\; &bull\; Join a post-film conversation with ocean experts &bull\; Indulge in delicious herring dishes presented by Sausalito restaurants &bull\; Enjoy lively music by the Fishwives\, official band of Sea Forager &bull\; Take a docent-guided tour of the Tall Ship Matthew Turner &bull\; Experience an educational whale exhibit from NOAA/Greater Farallones NMS &bull\; Learn the latest about the SCBC at Cass Gidley Marina project Participating restaurants include: Fish\, Chef Davey Jones\, Angelino\, Joinery and Osteria Divino. Wine will be on offer\, and Fort Point Brew Co will pour beer. Enjoy popcorn with your movie courtesy of Driver&rsquo\;s Market. Tickets are limited &ndash\; purchase tickets &amp\; get all the details here: https://scbcherringcelebration.eventbrite.com Tickets are $40 for the Film and Herring Plate Lunch. Beverages are $5. Supporters have a choice of Two Screenings for &ldquo\;Sonic Sea&rdquo\; &bull\; Ticket #A &ndash\; Morning: 11:00am Screening + 1:00pm Herring Lunch (Doors Open 10:30) &bull\; Ticket #B &ndash\; Afternoon: 1:00pm Herring Lunch + 2:30pm Screening (Doors Open 1:00) This event is a fundraiser to support Phase I renovation of the SCBC site at Cass Gidley Marina. This vital work will provide safe access to the water so we may begin programming\, and is expected to begin this winter.
LOCATION:Bay Model Visitor Center\, Sausalito
UID:e.1780.1640
SEQUENCE:3
DTSTAMP:20260425T035445Z
URL:http://business.sausalito.org/events/details/2018-scbc-herring-celebration-1640
END:VEVENT

END:VCALENDAR
