BEGIN:VCALENDAR
VERSION:2.0
PRODID:-//ChamberMaster//Event Calendar 2.0//EN
METHOD:PUBLISH
X-PUBLISHED-TTL:P3D
REFRESH-INTERVAL:P3D
CALSCALE:GREGORIAN
BEGIN:VEVENT
DTSTART:20201214T180000Z
DTEND:20201215T020000Z
X-MICROSOFT-CDO-ALLDAYEVENT:FALSE
SUMMARY:14th Annual Gingerbread House Tour
DESCRIPTION:14th Annual Sausalito Chamber Gingerbread House Tour.  Families are encouraged to visit in small groups and tour individually designed Gingerbread House creations.
X-ALT-DESC;FMTTYPE=text/html:14th Annual Sausalito Chamber Gingerbread House Tour.&nbsp\; Families are encouraged to visit in small groups and tour individually designed Gingerbread House creations.&nbsp\;&nbsp\;
LOCATION:A Walking Tour Map will be available. Vote for your favorites via QR Code
UID:e.1780.2508
SEQUENCE:3
DTSTAMP:20260422T175343Z
URL:http://business.sausalito.org/events/details/14th-annual-gingerbread-house-tour-12-14-2020-2508
END:VEVENT

END:VCALENDAR
