BEGIN:VCALENDAR
VERSION:2.0
PRODID:-//ChamberMaster//Event Calendar 2.0//EN
METHOD:PUBLISH
X-PUBLISHED-TTL:P3D
REFRESH-INTERVAL:P3D
CALSCALE:GREGORIAN
BEGIN:VEVENT
DTSTART;VALUE=DATE:20181213
DTEND;VALUE=DATE:20181214
TRANSP:TRANSPARENT
X-MICROSOFT-CDO-ALLDAYEVENT:TRUE
SUMMARY:12th Annual Gingerbread House Tour
DESCRIPTION:Gingerbread House Tour begins December 1 -31.  Enjoy exploring Sauaslito's magical Gingerbread Houses while doing your holiday shopping at local boutique shops.
X-ALT-DESC;FMTTYPE=text/html:Gingerbread House Tour begins December 1 -31.&nbsp\; Enjoy exploring Sauaslito&#39\;s magical Gingerbread Houses while doing your holiday shopping at local boutique shops.
LOCATION:Maps of the tour can be found at local participting businesses. https://www.sausalito.org/gingerbread-house-tour check website for more information
UID:e.1780.1878
SEQUENCE:3
DTSTAMP:20260424T072933Z
URL:http://business.sausalito.org/events/details/12th-annual-gingerbread-house-tour-12-13-2018-1878
END:VEVENT

END:VCALENDAR
